BEGIN:VCALENDAR
VERSION:2.0
PRODID:-//GoRyou Dojo - ECPv6.8.3//NONSGML v1.0//EN
CALSCALE:GREGORIAN
METHOD:PUBLISH
X-WR-CALNAME:GoRyou Dojo
X-ORIGINAL-URL:https://www.goryou.cz
X-WR-CALDESC:Akce na GoRyou Dojo
REFRESH-INTERVAL;VALUE=DURATION:PT1H
X-Robots-Tag:noindex
X-PUBLISHED-TTL:PT1H
BEGIN:VTIMEZONE
TZID:Europe/Prague
BEGIN:DAYLIGHT
TZOFFSETFROM:+0100
TZOFFSETTO:+0200
TZNAME:CEST
DTSTART:20220327T010000
END:DAYLIGHT
BEGIN:STANDARD
TZOFFSETFROM:+0200
TZOFFSETTO:+0100
TZNAME:CET
DTSTART:20221030T010000
END:STANDARD
END:VTIMEZONE
BEGIN:VEVENT
DTSTART;TZID=Europe/Prague:20220703T080000
DTEND;TZID=Europe/Prague:20220703T170000
DTSTAMP:20260425T175620
CREATED:20220703T081051Z
LAST-MODIFIED:20220703T081051Z
UID:6793-1656835200-1656867600@www.goryou.cz
SUMMARY:Povídání o Tokyu
DESCRIPTION:Povídání
URL:https://www.goryou.cz/event/povidani-o-tokyu/
END:VEVENT
END:VCALENDAR