BEGIN:VCALENDAR
VERSION:2.0
PRODID:-//GoRyou Dojo - ECPv6.8.3//NONSGML v1.0//EN
CALSCALE:GREGORIAN
METHOD:PUBLISH
X-ORIGINAL-URL:https://www.goryou.cz
X-WR-CALDESC:Akce na GoRyou Dojo
REFRESH-INTERVAL;VALUE=DURATION:PT1H
X-Robots-Tag:noindex
X-PUBLISHED-TTL:PT1H
BEGIN:VTIMEZONE
TZID:Europe/Prague
BEGIN:DAYLIGHT
TZOFFSETFROM:+0100
TZOFFSETTO:+0200
TZNAME:CEST
DTSTART:20240331T010000
END:DAYLIGHT
BEGIN:STANDARD
TZOFFSETFROM:+0200
TZOFFSETTO:+0100
TZNAME:CET
DTSTART:20241027T010000
END:STANDARD
END:VTIMEZONE
BEGIN:VEVENT
DTSTART;TZID=Europe/Prague:20240928T100000
DTEND;TZID=Europe/Prague:20240928T180000
DTSTAMP:20260425T143236
CREATED:20240922T162957Z
LAST-MODIFIED:20240922T165300Z
UID:7193-1727517600-1727546400@www.goryou.cz
SUMMARY:BUDO\, DECH\, DYNAMICKÁ SÍLA
DESCRIPTION:Jednodenní seminář bojového umění. Budeme studovat kontrolu soupeře na různé úrovni dynamiky. Tedy od statického nácviku pro funkční nastavení techniky\, po dynamický nácvik\, který simuluje realitu boje v plynulém a rychlém pohybu.Vedle tréninku samotného boje probereme a procvičíme dvě podpůrné oblasti – dech a dynamickou sílu – s náměty na domácí cvičení.Cvičit začínáme v 10:00. Končíme v 18:00. Mezi jednotlivými částmi semináře budou přestávky (na oběd trochu delší).Cena semináře: 700\,- KčJídlo si každý zajišťuje sám. K dispozici je mikrovlnka
URL:https://www.goryou.cz/event/budo-dech-dynamicka-sila/
END:VEVENT
END:VCALENDAR